BEGIN:VCALENDAR
VERSION:2.0
PRODID:-//Fédération Départementale des Foyers Ruraux de Charente Maritime - ECPv6.2.9//NONSGML v1.0//EN
CALSCALE:GREGORIAN
METHOD:PUBLISH
X-WR-CALNAME:Fédération Départementale des Foyers Ruraux de Charente Maritime
X-ORIGINAL-URL:https://fdfr17.foyersruraux.org
X-WR-CALDESC:évènements pour Fédération Départementale des Foyers Ruraux de Charente Maritime
REFRESH-INTERVAL;VALUE=DURATION:PT1H
X-Robots-Tag:noindex
X-PUBLISHED-TTL:PT1H
BEGIN:VTIMEZONE
TZID:Europe/Paris
BEGIN:DAYLIGHT
TZOFFSETFROM:+0100
TZOFFSETTO:+0200
TZNAME:CEST
DTSTART:20260329T010000
END:DAYLIGHT
BEGIN:STANDARD
TZOFFSETFROM:+0200
TZOFFSETTO:+0100
TZNAME:CET
DTSTART:20261025T010000
END:STANDARD
END:VTIMEZONE
BEGIN:VEVENT
DTSTART;TZID=Europe/Paris:20260502T210000
DTEND;TZID=Europe/Paris:20260503T010000
DTSTAMP:20260422T014448
CREATED:20260420T142433Z
LAST-MODIFIED:20260420T142433Z
UID:24545-1777755600-1777770000@fdfr17.foyersruraux.org
SUMMARY:Challenge orientation semi-nocturne
DESCRIPTION:Asso Avec\n Challenge Orientation Semi-Nocturne\n 2 mai 2026\n Les Renardières (Saint Loup) Départ à 21h\nEnvie de tester quelque chose de différent ? Que tu sois débutant ou déjà pratiquant\, cet événement est ouvert à tous.\n Deux formats au choix :\nParcours rando (1h)\nParcours sportif (2h ou 3h)\, accessible à tous ceux qui peuvent courir un peu et veulent se challenger.\n Le parcours sportif est également ouvert aux familles\, avec au moins un adulte par équipe.\nPas besoin d’être expert : viens surtout pour découvrir\, te challenger et profiter d’un moment en pleine nature\, de nuit.\n À faire seul\, entre amis ou en famille\n Fin des inscriptions lundi 27 avril à minuit\n Ne tarde pas à t’inscrire !!!! 
URL:https://fdfr17.foyersruraux.org/evenement/challenge-orientation-semi-nocturne/
CATEGORIES:Sport,Val de Saintonge
ATTACH;FMTTYPE=image/jpeg:https://fdfr17.foyersruraux.org/wp-content/uploads/sites/5/2026/04/AVEC-e1776692990956.jpg
END:VEVENT
END:VCALENDAR